BEGIN:VCALENDAR
PRODID:-//eluceo/ical//2.0/EN
VERSION:2.0
CALSCALE:GREGORIAN
BEGIN:VEVENT
UID:bf004380b37583a6a4c58464da8b0bb1
DTSTAMP:20260422T224812Z
SUMMARY:[männliche D-Jugend Runde] EJW Münchingen  - CVJM Fellbach 
URL:https://www.eichenkreuzliga.de/handball/game/id/11607
DTSTART:20210228T161000
DTEND:20210228T171000
LOCATION:Sporthalle Münchingen\, 70825 Korntal-Münchingen
END:VEVENT
END:VCALENDAR
