BEGIN:VCALENDAR
PRODID:-//eluceo/ical//2.0/EN
VERSION:2.0
CALSCALE:GREGORIAN
BEGIN:VEVENT
UID:c044544cabdc3e08c51e1d2a04e66b84
DTSTAMP:20260422T224800Z
SUMMARY:[männliche D-Jugend Runde] CVJM Plochingen  - CVJM Fellbach 
URL:https://www.eichenkreuzliga.de/handball/game/id/11614
DTSTART:20210228T151000
DTEND:20210228T161000
LOCATION:Sporthalle Münchingen\, 70825 Korntal-Münchingen
END:VEVENT
END:VCALENDAR
