BEGIN:VCALENDAR
PRODID:-//eluceo/ical//2.0/EN
VERSION:2.0
CALSCALE:GREGORIAN
BEGIN:VEVENT
UID:2288c3b0449f230f5c4a262cd0e46fe9
DTSTAMP:20260422T224502Z
SUMMARY:[männliche D-Jugend Runde] EK Köngen  - CVJM HB Dußlingen-Gomari
 ngen 1
URL:https://www.eichenkreuzliga.de/handball/game/id/11615
DTSTART:20210424T130000
DTEND:20210424T140000
LOCATION:Burgschulhalle\, 73257 Köngen
END:VEVENT
END:VCALENDAR
