BEGIN:VCALENDAR
PRODID:-//eluceo/ical//2.0/EN
VERSION:2.0
CALSCALE:GREGORIAN
BEGIN:VEVENT
UID:d3b87987ee1a666e12daa5f730e48a6c
DTSTAMP:20260423T001943Z
SUMMARY:[männliche D-Jugend Runde] EK Köngen  - CVJM HB Dußlingen-Gomari
 ngen 2 a.K.
URL:https://www.eichenkreuzliga.de/handball/game/id/11616
DTSTART:20210424T160000
DTEND:20210424T170000
LOCATION:Burgschulhalle\, 73257 Köngen
END:VEVENT
END:VCALENDAR
