BEGIN:VCALENDAR
PRODID:-//eluceo/ical//2.0/EN
VERSION:2.0
CALSCALE:GREGORIAN
BEGIN:VEVENT
UID:83d2073cee333e8f3cdbf49e455cffc2
DTSTAMP:20260422T224742Z
SUMMARY:[männliche D-Jugend Runde] CVJM HB Dußlingen-Gomaringen 1 - CVJM 
 Fellbach 
URL:https://www.eichenkreuzliga.de/handball/game/id/11617
DTSTART:20210424T150000
DTEND:20210424T160000
LOCATION:Burgschulhalle\, 73257 Köngen
END:VEVENT
END:VCALENDAR
