BEGIN:VCALENDAR
PRODID:-//eluceo/ical//2.0/EN
VERSION:2.0
CALSCALE:GREGORIAN
BEGIN:VEVENT
UID:76ec5d880365f49630ee6aa472da9d21
DTSTAMP:20260423T001626Z
SUMMARY:[männliche D-Jugend Runde] CVJM HB Dußlingen-Gomaringen 2 a.K. - 
 CVJM Fellbach 
URL:https://www.eichenkreuzliga.de/handball/game/id/11618
DTSTART:20210424T140000
DTEND:20210424T150000
LOCATION:Burgschulhalle\, 73257 Köngen
END:VEVENT
END:VCALENDAR
