BEGIN:VCALENDAR
PRODID:-//eluceo/ical//2.0/EN
VERSION:2.0
CALSCALE:GREGORIAN
BEGIN:VEVENT
UID:10a2637de7ecdfd9a9807afed2f74018
DTSTAMP:20260422T224642Z
SUMMARY:[männliche D-Jugend Runde] CVJM Möglingen  - CVJM Plochingen 
URL:https://www.eichenkreuzliga.de/handball/game/id/11619
DTSTART:20210424T142000
DTEND:20210424T152000
LOCATION:Stadionhalle\, 71696 Möglingen
END:VEVENT
END:VCALENDAR
gen
END:VEVENT
END:VCALENDAR
