BEGIN:VCALENDAR
PRODID:-//eluceo/ical//2.0/EN
VERSION:2.0
CALSCALE:GREGORIAN
BEGIN:VEVENT
UID:37c7c51ce02bcaef823ce0475cd42c5f
DTSTAMP:20260422T224712Z
SUMMARY:[männliche D-Jugend Runde] CVJM HB Dußlingen-Gomaringen 2 a.K. - 
 EK Bernhausen 1
URL:https://www.eichenkreuzliga.de/handball/game/id/11625
DTSTART:20210228T140000
DTEND:20210228T150000
LOCATION:Hönisch Sporthalle\, 72144 Dusslingen
END:VEVENT
END:VCALENDAR
