BEGIN:VCALENDAR
PRODID:-//eluceo/ical//2.0/EN
VERSION:2.0
CALSCALE:GREGORIAN
BEGIN:VEVENT
UID:311af4c9292661fc242aaf262faf0171
DTSTAMP:20260423T001944Z
SUMMARY:[männliche D-Jugend Runde] EK Bernhausen 1 - CVJM Plochingen 
URL:https://www.eichenkreuzliga.de/handball/game/id/11621
DTSTART:20210424T152000
DTEND:20210424T162000
LOCATION:Stadionhalle\, 71696 Möglingen
END:VEVENT
END:VCALENDAR
