BEGIN:VCALENDAR
PRODID:-//eluceo/ical//2.0/EN
VERSION:2.0
CALSCALE:GREGORIAN
BEGIN:VEVENT
UID:926460604e623f01b4704bd028f06685
DTSTAMP:20260422T224643Z
SUMMARY:[männliche D-Jugend Runde] CVJM HB Dußlingen-Gomaringen 2 a.K. - 
 CVJM Möglingen 
URL:https://www.eichenkreuzliga.de/handball/game/id/11623
DTSTART:20210228T160000
DTEND:20210228T170000
LOCATION:Hönisch Sporthalle\, 72144 Dusslingen
END:VEVENT
END:VCALENDAR
