BEGIN:VCALENDAR
PRODID:-//eluceo/ical//2.0/EN
VERSION:2.0
CALSCALE:GREGORIAN
BEGIN:VEVENT
UID:2da3c2261c301ee69af0b46043d42a8e
DTSTAMP:20260423T044301Z
SUMMARY:[Frauen Landesliga] CVJM Möglingen  - CVJM HB Dußlingen-Gomaringe
 n 1
URL:https://www.eichenkreuzliga.de/handball/game/id/11631
DTSTART:20201212T160000
DTEND:20201212T170000
LOCATION:Stadionhalle\, 71696 Möglingen
END:VEVENT
END:VCALENDAR
