BEGIN:VCALENDAR
PRODID:-//eluceo/ical//2.0/EN
VERSION:2.0
CALSCALE:GREGORIAN
BEGIN:VEVENT
UID:aa6ecde162161993dad6676003782c62
DTSTAMP:20260423T033025Z
SUMMARY:[Frauen Landesliga] CVJM MÃ¶glingen  - CVJM SG MÃ¶ssingen/Belsen 
URL:https://www.eichenkreuzliga.de/handball/game/id/11635
DTSTART:20201017T140000
DTEND:20201017T150000
LOCATION:Stadionhalle\, 71696 MÃ¶glingen
END:VEVENT
END:VCALENDAR
¼bingen
END:VEVENT
END:VCALENDAR
