BEGIN:VCALENDAR
PRODID:-//eluceo/ical//2.0/EN
VERSION:2.0
CALSCALE:GREGORIAN
BEGIN:VEVENT
UID:21800c97216198f1e8ca8560b673f0ca
DTSTAMP:20260423T044125Z
SUMMARY:[Frauen Landesliga] CVJM SG Mössingen/Belsen  - CVJM Möglingen 
URL:https://www.eichenkreuzliga.de/handball/game/id/11637
DTSTART:20210131T143000
DTEND:20210131T153000
LOCATION:Jahnhalle 2\, 72116 Mössingen
END:VEVENT
END:VCALENDAR
