BEGIN:VCALENDAR
PRODID:-//eluceo/ical//2.0/EN
VERSION:2.0
CALSCALE:GREGORIAN
BEGIN:VEVENT
UID:0abbfa8ce6941560ec33bdba45f3e20d
DTSTAMP:20260423T044409Z
SUMMARY:[Frauen Landesliga] HSG Schönbuch  - CVJM Möglingen 
URL:https://www.eichenkreuzliga.de/handball/game/id/11644
DTSTART:20210313T170000
DTEND:20210313T180000
LOCATION:Schönbuch-Sporthalle\, 71088 Holzgerlingen
END:VEVENT
END:VCALENDAR
