BEGIN:VCALENDAR
PRODID:-//eluceo/ical//2.0/EN
VERSION:2.0
CALSCALE:GREGORIAN
BEGIN:VEVENT
UID:d866de172001919ce157ed4268a4ae02
DTSTAMP:20260423T044255Z
SUMMARY:[Frauen Landesliga] HSG Schönbuch  - CVJM HB Dußlingen-Gomaringen
  1
URL:https://www.eichenkreuzliga.de/handball/game/id/11650
DTSTART:20210327T143000
DTEND:20210327T153000
LOCATION:Schönbuch-Sporthalle\, 71088 Holzgerlingen
END:VEVENT
END:VCALENDAR
