BEGIN:VCALENDAR
PRODID:-//eluceo/ical//2.0/EN
VERSION:2.0
CALSCALE:GREGORIAN
BEGIN:VEVENT
UID:415b0497bfb0affa3533a20387458ec2
DTSTAMP:20260423T044243Z
SUMMARY:[Frauen Landesliga] CVJM SG Mössingen/Belsen  - CVJM HB Dußlingen
 -Gomaringen 1
URL:https://www.eichenkreuzliga.de/handball/game/id/11653
DTSTART:20210123T170000
DTEND:20210123T180000
LOCATION:Jahnhalle 2\, 72116 Mössingen
END:VEVENT
END:VCALENDAR
