BEGIN:VCALENDAR
PRODID:-//eluceo/ical//2.0/EN
VERSION:2.0
CALSCALE:GREGORIAN
BEGIN:VEVENT
UID:10c09e70a00a48dee2fdd0a2e06f7c02
DTSTAMP:20260423T044004Z
SUMMARY:[Frauen Landesliga] CVJM HB Dußlingen-Gomaringen 1 - EK Bernhausen
  
URL:https://www.eichenkreuzliga.de/handball/game/id/11655
DTSTART:20210314T183000
DTEND:20210314T193000
LOCATION:Hönisch Sporthalle\, 72144 Dusslingen
END:VEVENT
END:VCALENDAR
