BEGIN:VCALENDAR
PRODID:-//eluceo/ical//2.0/EN
VERSION:2.0
CALSCALE:GREGORIAN
BEGIN:VEVENT
UID:df927c6c9752a2488687529ee9fb4391
DTSTAMP:20260423T033216Z
SUMMARY:[Frauen Landesliga] CVJM Möglingen  - EK Bernhausen 
URL:https://www.eichenkreuzliga.de/handball/game/id/11658
DTSTART:20210227T180000
DTEND:20210227T190000
LOCATION:Stadionhalle\, 71696 Möglingen
END:VEVENT
END:VCALENDAR
