BEGIN:VCALENDAR
PRODID:-//eluceo/ical//2.0/EN
VERSION:2.0
CALSCALE:GREGORIAN
BEGIN:VEVENT
UID:cfd25596e6974e427c9b3961ccb4d22d
DTSTAMP:20260423T034822Z
SUMMARY:[weibliche C-Jugend Runde] CVJM Kirchentellinsfurt  - CVJM  Walddor
 fhäslach 
URL:https://www.eichenkreuzliga.de/handball/game/id/12364
DTSTART:20201017T000000
DTEND:20201017T010000
LOCATION:Sporthalle\, 72138 Kirchentellinsfurt
END:VEVENT
END:VCALENDAR
