BEGIN:VCALENDAR
PRODID:-//eluceo/ical//2.0/EN
VERSION:2.0
CALSCALE:GREGORIAN
BEGIN:VEVENT
UID:3819d5c9832ad11523c99621aab6ba7f
DTSTAMP:20260423T034718Z
SUMMARY:[weibliche C-Jugend Runde] CVJM Hülben  - CVJM Kirchentellinsfurt 
URL:https://www.eichenkreuzliga.de/handball/game/id/12368
DTSTART:20201107T153000
DTEND:20201107T163000
LOCATION:Gymnasiumsporthalle\, 73207 Plochingen
END:VEVENT
END:VCALENDAR
