BEGIN:VCALENDAR
PRODID:-//eluceo/ical//2.0/EN
VERSION:2.0
CALSCALE:GREGORIAN
BEGIN:VEVENT
UID:c17e84c438df4b9d6da3c997ba3c3a1e
DTSTAMP:20260423T034822Z
SUMMARY:[weibliche C-Jugend Runde] CVJM Hülben  - CVJM  Walddorfhäslach 
URL:https://www.eichenkreuzliga.de/handball/game/id/12386
DTSTART:20201213T130000
DTEND:20201213T140000
LOCATION:Falkensteinhalle\, 72582 Grabenstetten
END:VEVENT
END:VCALENDAR
