BEGIN:VCALENDAR
PRODID:-//eluceo/ical//2.0/EN
VERSION:2.0
CALSCALE:GREGORIAN
BEGIN:VEVENT
UID:32ddb4e2fb88d8c4b8739cc7a8b59cb6
DTSTAMP:20260423T003353Z
SUMMARY:[weibliche C-Jugend Runde] EJW Münchingen  - CVJM Kirchentellinsfu
 rt 
URL:https://www.eichenkreuzliga.de/handball/game/id/12390
DTSTART:20210117T161000
DTEND:20210117T171000
LOCATION:Sporthalle Münchingen\, 70825 Korntal-Münchingen
END:VEVENT
END:VCALENDAR
