BEGIN:VCALENDAR
PRODID:-//eluceo/ical//2.0/EN
VERSION:2.0
CALSCALE:GREGORIAN
BEGIN:VEVENT
UID:f5bd9cfa846a5ddd8117b02454431312
DTSTAMP:20260423T052550Z
SUMMARY:[weibliche C-Jugend Runde] EK Bernhausen  - CVJM Hülben 
URL:https://www.eichenkreuzliga.de/handball/game/id/12391
DTSTART:20201121T160500
DTEND:20201121T170500
LOCATION:Elisabeth-Selbert-Gymnasium Halle\, 70794 Bernhausen
END:VEVENT
END:VCALENDAR
