BEGIN:VCALENDAR
PRODID:-//eluceo/ical//2.0/EN
VERSION:2.0
CALSCALE:GREGORIAN
BEGIN:VEVENT
UID:f46bafe5ca94172276662c04bbc647e9
DTSTAMP:20260423T003256Z
SUMMARY:[weibliche C-Jugend Runde] EJW Münchingen  - CVJM  Walddorfhäslac
 h 
URL:https://www.eichenkreuzliga.de/handball/game/id/12398
DTSTART:20210228T172000
DTEND:20210228T182000
LOCATION:Sporthalle Münchingen\, 70825 Korntal-Münchingen
END:VEVENT
END:VCALENDAR
