BEGIN:VCALENDAR
PRODID:-//eluceo/ical//2.0/EN
VERSION:2.0
CALSCALE:GREGORIAN
BEGIN:VEVENT
UID:e3b924d7893c808b65eb5f5eb2dd25b6
DTSTAMP:20260423T033026Z
SUMMARY:[Männer Landesliga] CVJM Hagelloch - Kusterdingen 1 - CVJM  Walddo
 rfhäslach 
URL:https://www.eichenkreuzliga.de/handball/game/id/12482
DTSTART:20201108T181500
DTEND:20201108T191500
LOCATION:Sporthalle Waldhäuser-Ost\, 72076 Tübingen
END:VEVENT
END:VCALENDAR
