BEGIN:VCALENDAR
PRODID:-//eluceo/ical//2.0/EN
VERSION:2.0
CALSCALE:GREGORIAN
BEGIN:VEVENT
UID:287a2456978b7aa6d8af6cccfcc055a6
DTSTAMP:20260423T035108Z
SUMMARY:[Männer Landesliga] CVJM Hagelloch - Kusterdingen 1 - CVJM Flacht 
URL:https://www.eichenkreuzliga.de/handball/game/id/12483
DTSTART:20201114T180000
DTEND:20201114T190000
LOCATION:Kreissporthalle Tübingen\, 72072 Tübingen
END:VEVENT
END:VCALENDAR
