BEGIN:VCALENDAR
PRODID:-//eluceo/ical//2.0/EN
VERSION:2.0
CALSCALE:GREGORIAN
BEGIN:VEVENT
UID:c7d5f326d5ca00c56fbc8f88259c8f54
DTSTAMP:20260423T034632Z
SUMMARY:[weibliche D-Jugend Runde] CVJM  Walddorfhäslach  - CVJM HB Dußli
 ngen-Gomaringen 1
URL:https://www.eichenkreuzliga.de/handball/game/id/11316
DTSTART:20201114T110000
DTEND:20201114T120000
LOCATION:Ballspielhalle\, 72141 Walddorfhäslach
END:VEVENT
END:VCALENDAR
