BEGIN:VCALENDAR
PRODID:-//eluceo/ical//2.0/EN
VERSION:2.0
CALSCALE:GREGORIAN
BEGIN:VEVENT
UID:f91c8255920fb1fe3ff1fe49e2615a37
DTSTAMP:20260423T003219Z
SUMMARY:[Männer Landesliga] CVJM Möglingen  - CVJM Hagelloch - Kusterding
 en 1
URL:https://www.eichenkreuzliga.de/handball/game/id/12494
DTSTART:20210424T180000
DTEND:20210424T190000
LOCATION:Stadionhalle\, 71696 Möglingen
END:VEVENT
END:VCALENDAR
