BEGIN:VCALENDAR
PRODID:-//eluceo/ical//2.0/EN
VERSION:2.0
CALSCALE:GREGORIAN
BEGIN:VEVENT
UID:7b23ebd2c48d96183e2ba014b8473b88
DTSTAMP:20260423T051305Z
SUMMARY:[Männer Landesliga] CVJM  Walddorfhäslach  - CVJM Hagelloch - Kus
 terdingen 1
URL:https://www.eichenkreuzliga.de/handball/game/id/12497
DTSTART:20210213T190000
DTEND:20210213T200000
LOCATION:Ballspielhalle\, 72141 Walddorfhäslach
END:VEVENT
END:VCALENDAR
