BEGIN:VCALENDAR
PRODID:-//eluceo/ical//2.0/EN
VERSION:2.0
CALSCALE:GREGORIAN
BEGIN:VEVENT
UID:5f01b7d765b2d002edaa047a3d74a6bb
DTSTAMP:20260423T033058Z
SUMMARY:[Männer Landesliga] EK Köngen  - CVJM  Walddorfhäslach 
URL:https://www.eichenkreuzliga.de/handball/game/id/12504
DTSTART:20201017T170000
DTEND:20201017T180000
LOCATION:Burgschulhalle\, 73257 Köngen
END:VEVENT
END:VCALENDAR
