BEGIN:VCALENDAR
PRODID:-//eluceo/ical//2.0/EN
VERSION:2.0
CALSCALE:GREGORIAN
BEGIN:VEVENT
UID:03dc7e47fff968e07b5e9fda6a0d0e80
DTSTAMP:20260423T033227Z
SUMMARY:[Männer Landesliga] CVJM Flacht  - EK Köngen 
URL:https://www.eichenkreuzliga.de/handball/game/id/12522
DTSTART:20210306T160000
DTEND:20210306T170000
LOCATION:Sporthalle Flacht\, 71287 Weissach
END:VEVENT
END:VCALENDAR
