BEGIN:VCALENDAR
PRODID:-//eluceo/ical//2.0/EN
VERSION:2.0
CALSCALE:GREGORIAN
BEGIN:VEVENT
UID:716a62d8ad7402f4adba36e1220df31f
DTSTAMP:20260423T033350Z
SUMMARY:[weibliche A-Jugend Runde] CVJM SG Mössingen/Belsen  - EK Bernhaus
 en 
URL:https://www.eichenkreuzliga.de/handball/game/id/12731
DTSTART:20201114T141500
DTEND:20201114T151500
LOCATION:Jahnhalle 2\, 72116 Mössingen
END:VEVENT
END:VCALENDAR

