BEGIN:VCALENDAR
PRODID:-//eluceo/ical//2.0/EN
VERSION:2.0
CALSCALE:GREGORIAN
BEGIN:VEVENT
UID:c67b4ca7bb638401365cc1a9746f3cf7
DTSTAMP:20260423T034913Z
SUMMARY:[Männer Landesliga] CVJM Flacht  - CVJM SG Mössingen/Belsen 
URL:https://www.eichenkreuzliga.de/handball/game/id/12530
DTSTART:20201219T170000
DTEND:20201219T180000
LOCATION:Sporthalle Flacht\, 71287 Weissach
END:VEVENT
END:VCALENDAR
