BEGIN:VCALENDAR
PRODID:-//eluceo/ical//2.0/EN
VERSION:2.0
CALSCALE:GREGORIAN
BEGIN:VEVENT
UID:544cf0b9001d88187e45fa3c7147b337
DTSTAMP:20260423T035108Z
SUMMARY:[Männer Landesliga] CVJM SG Mössingen/Belsen  - CVJM Hagelloch - 
 Kusterdingen 1
URL:https://www.eichenkreuzliga.de/handball/game/id/12531
DTSTART:20210327T180000
DTEND:20210327T190000
LOCATION:Jahnhalle 2\, 72116 Mössingen
END:VEVENT
END:VCALENDAR
