BEGIN:VCALENDAR
PRODID:-//eluceo/ical//2.0/EN
VERSION:2.0
CALSCALE:GREGORIAN
BEGIN:VEVENT
UID:3f75bc97a4eadc936c4e72df09326482
DTSTAMP:20260423T051301Z
SUMMARY:[Männer Landesliga] CVJM SG Mössingen/Belsen  - EK Köngen 
URL:https://www.eichenkreuzliga.de/handball/game/id/12547
DTSTART:20210227T190000
DTEND:20210227T200000
LOCATION:Jahnhalle 2\, 72116 Mössingen
END:VEVENT
END:VCALENDAR
