BEGIN:VCALENDAR
PRODID:-//eluceo/ical//2.0/EN
VERSION:2.0
CALSCALE:GREGORIAN
BEGIN:VEVENT
UID:bfdae1e4f9f62083de635c1a76b8a588
DTSTAMP:20260423T033026Z
SUMMARY:[Männer LK2] CVJM Enzweihingen  - CVJM  Walddorfhäslach 2
URL:https://www.eichenkreuzliga.de/handball/game/id/12552
DTSTART:20201018T180000
DTEND:20201018T190000
LOCATION:Schulsporthalle\, 71665 Enzweihingen
END:VEVENT
END:VCALENDAR
