BEGIN:VCALENDAR
PRODID:-//eluceo/ical//2.0/EN
VERSION:2.0
CALSCALE:GREGORIAN
BEGIN:VEVENT
UID:9af56370eaeca6f3419287660f622fd6
DTSTAMP:20260423T051306Z
SUMMARY:[Männer LK2] CVJM Enzweihingen  - EK Bernhausen 
URL:https://www.eichenkreuzliga.de/handball/game/id/12556
DTSTART:20210327T203000
DTEND:20210327T213000
LOCATION:Schulsporthalle\, 71665 Enzweihingen
END:VEVENT
END:VCALENDAR
