BEGIN:VCALENDAR
PRODID:-//eluceo/ical//2.0/EN
VERSION:2.0
CALSCALE:GREGORIAN
BEGIN:VEVENT
UID:31c314483835b46f8a3caaae6b822b95
DTSTAMP:20260423T033220Z
SUMMARY:[Männer LK2] CVJM  Walddorfhäslach 2 - CVJM Kirchentellinsfurt 
URL:https://www.eichenkreuzliga.de/handball/game/id/12559
DTSTART:20210307T200000
DTEND:20210307T210000
LOCATION:Ballspielhalle\, 72141 Walddorfhäslach
END:VEVENT
END:VCALENDAR
