BEGIN:VCALENDAR
PRODID:-//eluceo/ical//2.0/EN
VERSION:2.0
CALSCALE:GREGORIAN
BEGIN:VEVENT
UID:47a9d4a0f7b06209a536e294dce4bfbe
DTSTAMP:20260423T033124Z
SUMMARY:[Männer LK2] CVJM  Walddorfhäslach 2 - CVJM Enzweihingen 
URL:https://www.eichenkreuzliga.de/handball/game/id/12562
DTSTART:20210123T170000
DTEND:20210123T180000
LOCATION:Ballspielhalle\, 72141 Walddorfhäslach
END:VEVENT
END:VCALENDAR
