BEGIN:VCALENDAR
PRODID:-//eluceo/ical//2.0/EN
VERSION:2.0
CALSCALE:GREGORIAN
BEGIN:VEVENT
UID:6672963db85c84cfbd14952ecf515fe5
DTSTAMP:20260423T051300Z
SUMMARY:[Männer LK2] CVJM Hülben  - CVJM Enzweihingen 
URL:https://www.eichenkreuzliga.de/handball/game/id/12568
DTSTART:20201010T170000
DTEND:20201010T180000
LOCATION:Falkensteinhalle\, 72582 Grabenstetten
END:VEVENT
END:VCALENDAR
