BEGIN:VCALENDAR
PRODID:-//eluceo/ical//2.0/EN
VERSION:2.0
CALSCALE:GREGORIAN
BEGIN:VEVENT
UID:4a3d91891b539785ae853c115c951539
DTSTAMP:20260423T051301Z
SUMMARY:[Männer LK2] EK Bernhausen  - CVJM Hülben 
URL:https://www.eichenkreuzliga.de/handball/game/id/12575
DTSTART:20210116T153000
DTEND:20210116T163000
LOCATION:Elisabeth-Selbert-Gymnasium Halle\, 70794 Bernhausen
END:VEVENT
END:VCALENDAR
