BEGIN:VCALENDAR
PRODID:-//eluceo/ical//2.0/EN
VERSION:2.0
CALSCALE:GREGORIAN
BEGIN:VEVENT
UID:118ba8b578897fb13947b4c2a5404117
DTSTAMP:20260423T033220Z
SUMMARY:[Männer LK2] CVJM SG Mössingen/Belsen 1b - CVJM Enzweihingen 
URL:https://www.eichenkreuzliga.de/handball/game/id/12580
DTSTART:20201114T180000
DTEND:20201114T190000
LOCATION:Jahnhalle 2\, 72116 Mössingen
END:VEVENT
END:VCALENDAR
