BEGIN:VCALENDAR
PRODID:-//eluceo/ical//2.0/EN
VERSION:2.0
CALSCALE:GREGORIAN
BEGIN:VEVENT
UID:f70564ae6e965ceda147f51d04cc543d
DTSTAMP:20260423T033124Z
SUMMARY:[Männer LK2] CVJM Kirchentellinsfurt  - EK Köngen 1b
URL:https://www.eichenkreuzliga.de/handball/game/id/12588
DTSTART:20201213T170000
DTEND:20201213T180000
LOCATION:Sporthalle\, 72138 Kirchentellinsfurt
END:VEVENT
END:VCALENDAR
