BEGIN:VCALENDAR
PRODID:-//eluceo/ical//2.0/EN
VERSION:2.0
CALSCALE:GREGORIAN
BEGIN:VEVENT
UID:de712c3f8387720c5c0e9a89c9d5c0b5
DTSTAMP:20260423T003133Z
SUMMARY:[Männer LK2] EK Bernhausen  - CVJM Enzweihingen 
URL:https://www.eichenkreuzliga.de/handball/game/id/12591
DTSTART:20210220T174500
DTEND:20210220T184500
LOCATION:Elisabeth-Selbert-Gymnasium Halle\, 70794 Bernhausen
END:VEVENT
END:VCALENDAR
