BEGIN:VCALENDAR
PRODID:-//eluceo/ical//2.0/EN
VERSION:2.0
CALSCALE:GREGORIAN
BEGIN:VEVENT
UID:9e83e68455967cdf52091ef778c8fcf6
DTSTAMP:20260423T033124Z
SUMMARY:[Männer LK2] EK Köngen 1b - CVJM Enzweihingen 
URL:https://www.eichenkreuzliga.de/handball/game/id/12592
DTSTART:20210206T170000
DTEND:20210206T180000
LOCATION:Burgschulhalle\, 73257 Köngen
END:VEVENT
END:VCALENDAR
