BEGIN:VCALENDAR
PRODID:-//eluceo/ical//2.0/EN
VERSION:2.0
CALSCALE:GREGORIAN
BEGIN:VEVENT
UID:660a2e577450d07fe286ce00993161fd
DTSTAMP:20260423T033220Z
SUMMARY:[Männer LK2] CVJM Enzweihingen  - CVJM Kirchentellinsfurt 
URL:https://www.eichenkreuzliga.de/handball/game/id/12598
DTSTART:20201024T180000
DTEND:20201024T190000
LOCATION:Schulsporthalle\, 71665 Enzweihingen
END:VEVENT
END:VCALENDAR
