BEGIN:VCALENDAR
PRODID:-//eluceo/ical//2.0/EN
VERSION:2.0
CALSCALE:GREGORIAN
BEGIN:VEVENT
UID:f26ed0a780fb2e6b276fbe45d9f4e804
DTSTAMP:20260423T051157Z
SUMMARY:[Männer LK2] CVJM Kirchentellinsfurt  - CVJM Enzweihingen 
URL:https://www.eichenkreuzliga.de/handball/game/id/12599
DTSTART:20201220T160000
DTEND:20201220T170000
LOCATION:Sporthalle\, 72138 Kirchentellinsfurt
END:VEVENT
END:VCALENDAR
