BEGIN:VCALENDAR
PRODID:-//eluceo/ical//2.0/EN
VERSION:2.0
CALSCALE:GREGORIAN
BEGIN:VEVENT
UID:3aaadb748d49f58b09f19941162e7d6d
DTSTAMP:20260423T052550Z
SUMMARY:[Männer Lk3] CVJM Plochingen  - CVJM Kirchentellinsfurt 1b
URL:https://www.eichenkreuzliga.de/handball/game/id/12611
DTSTART:20201107T173000
DTEND:20201107T183000
LOCATION:Gymnasiumsporthalle\, 73207 Plochingen
END:VEVENT
END:VCALENDAR
