BEGIN:VCALENDAR
PRODID:-//eluceo/ical//2.0/EN
VERSION:2.0
CALSCALE:GREGORIAN
BEGIN:VEVENT
UID:313890038a5c29f5fc84c1fbbe8763b3
DTSTAMP:20260423T052514Z
SUMMARY:[Männer Lk3] CVJM Kirchentellinsfurt 1b - CVJM Wildberg 
URL:https://www.eichenkreuzliga.de/handball/game/id/12612
DTSTART:20210124T183000
DTEND:20210124T193000
LOCATION:Sporthalle\, 72138 Kirchentellinsfurt
END:VEVENT
END:VCALENDAR
