BEGIN:VCALENDAR
PRODID:-//eluceo/ical//2.0/EN
VERSION:2.0
CALSCALE:GREGORIAN
BEGIN:VEVENT
UID:93b7ff1438130361e9ccf62b72eb7ac1
DTSTAMP:20260423T033227Z
SUMMARY:[Männer Lk3] CVJM Wildberg  - CVJM Kirchentellinsfurt 1b
URL:https://www.eichenkreuzliga.de/handball/game/id/12613
DTSTART:20201206T154500
DTEND:20201206T164500
LOCATION:Sporthalle Wildberg\, 72218 Wildberg
END:VEVENT
END:VCALENDAR
